BEGIN:VCALENDAR
VERSION:2.0
PRODID:-//The Sentinel - ECPv6.15.20//NONSGML v1.0//EN
CALSCALE:GREGORIAN
METHOD:PUBLISH
X-ORIGINAL-URL:https://sentinelbc.ca
X-WR-CALDESC:Events for The Sentinel
REFRESH-INTERVAL;VALUE=DURATION:PT1H
X-Robots-Tag:noindex
X-PUBLISHED-TTL:PT1H
BEGIN:VTIMEZONE
TZID:America/Vancouver
BEGIN:DAYLIGHT
TZOFFSETFROM:-0800
TZOFFSETTO:-0700
TZNAME:PDT
DTSTART:20240310T100000
END:DAYLIGHT
BEGIN:STANDARD
TZOFFSETFROM:-0700
TZOFFSETTO:-0800
TZNAME:PST
DTSTART:20241103T090000
END:STANDARD
BEGIN:DAYLIGHT
TZOFFSETFROM:-0800
TZOFFSETTO:-0700
TZNAME:PDT
DTSTART:20250309T100000
END:DAYLIGHT
BEGIN:STANDARD
TZOFFSETFROM:-0700
TZOFFSETTO:-0800
TZNAME:PST
DTSTART:20251102T090000
END:STANDARD
BEGIN:DAYLIGHT
TZOFFSETFROM:-0800
TZOFFSETTO:-0700
TZNAME:PDT
DTSTART:20260308T100000
END:DAYLIGHT
BEGIN:STANDARD
TZOFFSETFROM:-0700
TZOFFSETTO:-0800
TZNAME:PST
DTSTART:20261101T090000
END:STANDARD
END:VTIMEZONE
BEGIN:VEVENT
DTSTART;VALUE=DATE:20250617
DTEND;VALUE=DATE:20250623
DTSTAMP:20260422T050715
CREATED:20241205T194215Z
LAST-MODIFIED:20250518T212944Z
UID:10000109-1750118400-1750636799@sentinelbc.ca
SUMMARY:Sacred Origins Retreat
DESCRIPTION:
URL:https://sentinelbc.ca/event/sacred-origins-retreat-registration-opening-soon/
LOCATION:The Sentinel
ATTACH;FMTTYPE=image/png:https://sentinelbc.ca/wp-content/uploads/2024/12/Sentinel-Events-posts-2025-3.png
END:VEVENT
END:VCALENDAR