BEGIN:VCALENDAR
VERSION:2.0
PRODID:-//The Sentinel - ECPv6.15.20//NONSGML v1.0//EN
CALSCALE:GREGORIAN
METHOD:PUBLISH
X-ORIGINAL-URL:https://sentinelbc.ca
X-WR-CALDESC:Events for The Sentinel
REFRESH-INTERVAL;VALUE=DURATION:PT1H
X-Robots-Tag:noindex
X-PUBLISHED-TTL:PT1H
BEGIN:VTIMEZONE
TZID:America/Vancouver
BEGIN:DAYLIGHT
TZOFFSETFROM:-0800
TZOFFSETTO:-0700
TZNAME:PDT
DTSTART:20230312T100000
END:DAYLIGHT
BEGIN:STANDARD
TZOFFSETFROM:-0700
TZOFFSETTO:-0800
TZNAME:PST
DTSTART:20231105T090000
END:STANDARD
BEGIN:DAYLIGHT
TZOFFSETFROM:-0800
TZOFFSETTO:-0700
TZNAME:PDT
DTSTART:20240310T100000
END:DAYLIGHT
BEGIN:STANDARD
TZOFFSETFROM:-0700
TZOFFSETTO:-0800
TZNAME:PST
DTSTART:20241103T090000
END:STANDARD
BEGIN:DAYLIGHT
TZOFFSETFROM:-0800
TZOFFSETTO:-0700
TZNAME:PDT
DTSTART:20250309T100000
END:DAYLIGHT
BEGIN:STANDARD
TZOFFSETFROM:-0700
TZOFFSETTO:-0800
TZNAME:PST
DTSTART:20251102T090000
END:STANDARD
END:VTIMEZONE
BEGIN:VEVENT
DTSTART;VALUE=DATE:20240304
DTEND;VALUE=DATE:20240430
DTSTAMP:20260425T045737
CREATED:20240205T195857Z
LAST-MODIFIED:20240212T023859Z
UID:10000075-1709510400-1714435199@sentinelbc.ca
SUMMARY:VIRTUAL: Fundamentals of Psychedelic-Assisted Therapy | Training Cohort 1
DESCRIPTION:Get equipped with the foundational knowledge and skills to practice psychedelic-assisted therapy.\n  \nCOURSE DESCRIPTION\n\nFundamentals of Psychedelic-Assisted Therapy is a unique 8-week opportunity to learn and interact with our established Numinus practitioners as they share their real-life experiences in providing integrative and transformative mental wellness. This training is open to both regulated and non-regulated providers\, as well as empowered individuals looking to train in this field. \nIn this training\, you can expect to build core competencies through online pre-work\, live demonstrations\, group work\, practice\, and case-based learning. You’ll learn the Numinus model of care\, which is grounded in evidence\, committed to client safety\, and designed to develop all the practical skills you need to deliver this care in your own practice. \nWe will dive into: \n\nThe role that psychedelic-assisted therapy plays as a brief intervention within the broader healing journey\nThe arc of psychedelic-assisted therapy and its components (including therapeutic concepts)\nInner healing intelligence\nUsing language and inquiry that support deepening a patient’s inner experience and innate healing capacity\nApplying psychological flexibility to acceptance and commitment therapy\, ACE model\, and internal family systems\nMindfulness\, psychological flexibility\, and embodied inquiry\nSpiritual intelligence\, trust\, and working with altered states of consciousness\nBurnout\, vicarious trauma\, transference\, and countertransference\n\nThis course includes live Zoom sessions\, group work\, and online pre-work. \nREGISTER HERE \n \nUSE THE CODE SENTINEL10 AND GET 10% OFF THE TRAINING \nLEARNING OUTCOMES\n\nAfter the course\, you’ll be able to: \n\nDescribe the unique vulnerabilities of clients participating in psychedelic-assisted therapy and cultivate the awareness and practices necessary to meet these vulnerabilities safely and ethically.\nApply and demonstrate relevant facilitation competencies\, skills\, and orientations (including the Numinus care model) at an introductory level for the purposes of delivering psychedelic-assisted therapy.\nDescribe the Numinus guiding approaches within the context of integrative and transformative mental wellness as they relate to psychedelic-assisted therapy.\nApply facilitation skills specific to psychedelic-assisted therapy during Preparation\, Medicine\, and Integration Sessions.\nIdentify and respond to burnout\, vicarious trauma\, transference\, and countertransference experienced by the health professional.\n\nLEARN MORE & REGISTER HERE
URL:https://sentinelbc.ca/event/fundamentals-of-psychedelic-assisted-therapy-cohort-1-training/
CATEGORIES:Training
ATTACH;FMTTYPE=image/png:https://sentinelbc.ca/wp-content/uploads/2024/02/numinus.png
END:VEVENT
BEGIN:VEVENT
DTSTART;VALUE=DATE:20240308
DTEND;VALUE=DATE:20240504
DTSTAMP:20260425T045738
CREATED:20240205T200513Z
LAST-MODIFIED:20240212T023947Z
UID:10000076-1709856000-1714780799@sentinelbc.ca
SUMMARY:VIRTUAL: Fundamentals of Psychedelic-Assisted Therapy | Training Cohort 2
DESCRIPTION:Get equipped with the foundational knowledge and skills to practice psychedelic-assisted therapy.\n  \nCOURSE DESCRIPTION\n\nFundamentals of Psychedelic-Assisted Therapy is a unique 8-week opportunity to learn and interact with our established Numinus practitioners as they share their real-life experiences in providing integrative and transformative mental wellness. This training is open to both regulated and non-regulated providers\, as well as empowered individuals looking to train in this field. \nIn this training\, you can expect to build core competencies through online pre-work\, live demonstrations\, group work\, practice\, and case-based learning. You’ll learn the Numinus model of care\, which is grounded in evidence\, committed to client safety\, and designed to develop all the practical skills you need to deliver this care in your own practice. \nWe will dive into: \n\nThe role that psychedelic-assisted therapy plays as a brief intervention within the broader healing journey\nThe arc of psychedelic-assisted therapy and its components (including therapeutic concepts)\nInner healing intelligence\nUsing language and inquiry that support deepening a patient’s inner experience and innate healing capacity\nApplying psychological flexibility to acceptance and commitment therapy\, ACE model\, and internal family systems\nMindfulness\, psychological flexibility\, and embodied inquiry\nSpiritual intelligence\, trust\, and working with altered states of consciousness\nBurnout\, vicarious trauma\, transference\, and countertransference\n\nThis course includes live Zoom sessions\, group work\, and online pre-work. \nREGISTER HERE \n \nUSE THE CODE SENTINEL10 AND GET 10% OFF THE TRAINING \nLEARNING OUTCOMES\n\nAfter the course\, you’ll be able to: \n\nDescribe the unique vulnerabilities of clients participating in psychedelic-assisted therapy and cultivate the awareness and practices necessary to meet these vulnerabilities safely and ethically.\nApply and demonstrate relevant facilitation competencies\, skills\, and orientations (including the Numinus care model) at an introductory level for the purposes of delivering psychedelic-assisted therapy.\nDescribe the Numinus guiding approaches within the context of integrative and transformative mental wellness as they relate to psychedelic-assisted therapy.\nApply facilitation skills specific to psychedelic-assisted therapy during Preparation\, Medicine\, and Integration Sessions.\nIdentify and respond to burnout\, vicarious trauma\, transference\, and countertransference experienced by the health professional.\n\nLEARN MORE & REGISTER HERE
URL:https://sentinelbc.ca/event/fundamentals-of-psychedelic-assisted-therapy-training-cohort-2/
CATEGORIES:Training
ATTACH;FMTTYPE=image/png:https://sentinelbc.ca/wp-content/uploads/2024/02/numinus.png
END:VEVENT
BEGIN:VEVENT
DTSTART;VALUE=DATE:20240405
DTEND;VALUE=DATE:20240409
DTSTAMP:20260425T045738
CREATED:20231221T211522Z
LAST-MODIFIED:20240118T220506Z
UID:10000037-1712275200-1712620799@sentinelbc.ca
SUMMARY:Community Gathering with Abuelita and Continuum
DESCRIPTION:We are inviting you to join us for a weekend with Abuelita and Continuum\, April 5-8th\, 2024 in the Kootenay’s. \nThe Sentinel is a stunningly beautiful lakeside retreat centre near Kaslo\, BC where we will gather for a weekend of deep healing and transformation\, prayers and celebration for our lives and our families\, communities and the planet. \nThis retreat includes:  \n\nNourishing and delicious meals and snacks\nSauna and Cedar Hot Tub\nTwo ceremonial evening meditations\nIntegration sessions ( before & after via emails\, phone call or Zoom sessions)\nWorkshops\nBreath work\nContinuum\nPreparation and integration support\n\nInterested in Attending this Retreat – please email gatherintheflowers@gmail.com to begin the process.  \nor Visit our Room Booking Site HERE
URL:https://sentinelbc.ca/event/community-gathering-with-abuelita-and-continuum/
LOCATION:The Sentinel
CATEGORIES:Medicine
ATTACH;FMTTYPE=image/jpeg:https://sentinelbc.ca/wp-content/uploads/2023/12/Divine-Union-Masculine-and-Feminine-Krystleyez.jpg
END:VEVENT
BEGIN:VEVENT
DTSTART;VALUE=DATE:20240411
DTEND;VALUE=DATE:20240415
DTSTAMP:20260425T045738
CREATED:20231221T212332Z
LAST-MODIFIED:20240312T164545Z
UID:10000003-1712793600-1713139199@sentinelbc.ca
SUMMARY:The Art and Medicine of Grief
DESCRIPTION:Grief touches us like nothing else. It’s grip and it’s ability to bring all of life into a blur and acute focus simultaneously is unique and powerful. For this reason\, it is easy to shy away from grief\, to try to push down\, avoid and turn away from the intensity that it brings; however\, for those that have the willingness to lean it\, they see clearly and quickly the master initiator and teacher that grief is. \nTo reserve your spot > CLICK HERE\n  \nWithin our time together we will be deeply exploring teachings from the remarkable book by Francis Weller: The Wild Edge of Sorrow. In his book\, Weller breaks down what he calls\, The 5 Gates to Grief which we will be exploring in a deep and vast way within the weekend and specifically within the mycelium medicine field.\nMany of us do not know how to grieve; it often takes death\, tragedy\, a health crisis or shock before we are able to open to the deep well of grief that lives within us.\nThis grief doesn’t live within us as just a concept\, it lives within the body\, within the soma and tissues within the body and it is held there by our desire to keep it all together\, by muscular/fascial tension and holding patterns within our body. And all of this\, is usually deeply unconscious; held since we were little ones\, unable or unknowing how to do it differently.\nWith intention and strategic practices\, we will slowly and gently help to uncover and unravel the holding patterns of grief from our body and do so in a way that is resourced and creates lasting resilience within your system. This is not about cracking you open\, grief has already done that to some extent\, this is about gently unweaving the threads that have bound together to keep up the protective and defensive armour. This must be done with gentleness\, skill and compassion and such are the ways we will navigate the weekend.\n\nAnother important element of this retreat is one of ritual. In our disconnection with death in our society\, we have lost alongside it the importance of ritual as an important and effective balm for the tenderness created with grief. We will explore ritual as an art from; how when we are able to open to our pain\, we are also able to open to incredible beauty.\n\nThis retreat includes: \n• Intake call and preparation assistance\n• All meals while on retreat (organic\, vegetation and delicious)\n• Accommodation (price varies)\n• Expertly lead medicine experience\n• Creative/Artistic space for exploring the opening of your grief\n• Embodiment practices + so much more!\n\n\nJoin us > CLICK HERE\n\n\nOverview of the weekend:\nThursday April 11th\n1-3pm Arrival\n3pm Start\, intros\, teachings\, Breathwork\n7pm dinner\n\nFriday April 12th\n9am breakfast\n1030-1pm: In session\n1-4pm: Lunch + Free Time\n4pm Ceremony\n\nSaturday April 13th\n9am breakfast\n1030: In session\n1pm Lunch\n230-4pm In session\n6:00pm Dinner \nSunday April 14th \n9am breakfast \n10:30-1pm Integration Closing Circle \nDeparture \n\n\n\n\n\n\nAbout the Leaders\n\n\nReanna Costa\nReanna is a powerful and masterful teacher who has dedicated her life to uncovering the mysteries of our body-mind. After 14 years of teaching and 1500hrs of training in anatomy\, philosophy\, inquiry and trauma\, Reanna has synthesized together a blend of works and teachings to create a powerful method of creating freedom within the Self. […] \nLearn more about Reanna Costa\n\n\n\nKylie Judge\nKylie is passionate about the mystery of life and death. She is committed to walking a path of love and trusting compassion and curiosity to guide her way in the world. Kylie currently works with hospice\, traversing the vast territory of grief and loss; seeing grief as a doorway into living in deeper connection with […] \nLearn more about Kylie Judge
URL:https://sentinelbc.ca/event/the-art-and-medicine-of-grief/
CATEGORIES:Medicine
ATTACH;FMTTYPE=image/png:https://sentinelbc.ca/wp-content/uploads/2023/09/Grief-retreat-Reanna-and-Kylie.png
END:VEVENT
BEGIN:VEVENT
DTSTART;VALUE=DATE:20240418
DTEND;VALUE=DATE:20240422
DTSTAMP:20260425T045738
CREATED:20231221T220250Z
LAST-MODIFIED:20240314T180602Z
UID:10000049-1713398400-1713743999@sentinelbc.ca
SUMMARY:Together Couples Retreat
DESCRIPTION:Return To Love \n Deepen Into Intimacy \n Meet The Divine In Your Partner\nReserve Your Spot > BOOK NOW\nNestled in the enchanting landscapes of The Sentinel\, this couples retreat offers a sanctuary where love flourishes and the noise of everyday life is replaced with the tranquility of nature. \nJoin us for an unforgettable journey that will deepen your connection and enhance the spark in your relationship.  We have limited spots to preserve the intimacy. \nRetreat Highlights:\n\nSomatics\nIntuitive Relationship Coaching\nBreathwork\nRadical Honesty\nTantra\nIntimacy\nNervous system Re-patterning\nRelationship as awakening\nPlay\nVulnerability\nPassion\nSynergy\nEmbodiment\n\nWhat’s Included:\n\nNervous system co-regulation & self regulation practices\nPartner practices for deepening into intimacy and navigating conflict\nWorking with both the internal and the relational to create connection\nBreathwork\nSomatic Embodiment Practices\nMeditation/ Energy Work\nInitiation Ceremony\nRelational Constellation Processes\nOrganic Meals\nHot tub/ sauna\nNature Time\n\nReserve Your Spot > BOOK NOW\n*payment plans available – early registration pricing ends March 15th \nAbout the Leader\n\n\nCourtney Wren-Mabbutt\nCourtney Wren-Mabbutt MSW RSW Relational Mystic\, Transformational Therapist & Medicine Woman Creating transformational experiences\, Merging science and spirituality to support  leaders\, visionaries & weavers of a new world to rewire their nervous systems and early experiences to create & birth New Ways of conscious family\, relationship and leadership through: •Somatic Therapy Pre & Peri Natal •Relational/ […] \nLearn more about Courtney Wren-Mabbutt
URL:https://sentinelbc.ca/event/couples-retreat/
CATEGORIES:Wellness
ATTACH;FMTTYPE=image/jpeg:https://sentinelbc.ca/wp-content/uploads/2023/12/Courtney-and-Mike-Sacred-Relating-Photo-768x768-1.jpeg
END:VEVENT
BEGIN:VEVENT
DTSTART;VALUE=DATE:20240426
DTEND;VALUE=DATE:20240430
DTSTAMP:20260425T045738
CREATED:20240119T001009Z
LAST-MODIFIED:20240119T001009Z
UID:10000073-1714089600-1714435199@sentinelbc.ca
SUMMARY:Stay with Us
DESCRIPTION:Whether you’re craving\, a mindful week filled with yoga\, meditation\, and nature walks\, or an adventure getaway complete with waterfalls\, hikes with stunning views\, world-class mountain biking\, or best-on-the-planet heli-skiing — or you’re simply looking for a blissfully tranquil place to rest your weary head — we’re here to help you customize your dream escape. \nBe prepared to wake up to views of a lifetime — all our rooms afford stunning vistas of fjord-like Kootenay Lake and the soaring\, snowcapped Purcell Range. Luxuriate in your cozy bed while watching the sunrise over the peaks before joining us for breakfast (seasonal/$25/person\, reservations required when booking) graced by produce picked from our organic garden. Sentinel meals are lovingly prepared — we’ll do our best to suit your nutritional needs. \nRESERVE YOUR ROOM TODAY
URL:https://sentinelbc.ca/event/stay-with-us-3/
CATEGORIES:Hotel Stays
ATTACH;FMTTYPE=image/jpeg:https://sentinelbc.ca/wp-content/uploads/2022/05/Room-7.jpeg
END:VEVENT
BEGIN:VEVENT
DTSTART;TZID=America/Vancouver:20240427T100000
DTEND;TZID=America/Vancouver:20240427T170000
DTSTAMP:20260425T045738
CREATED:20240130T232340Z
LAST-MODIFIED:20240215T215756Z
UID:10000074-1714212000-1714237200@sentinelbc.ca
SUMMARY:Moms Self Care Day Retreat
DESCRIPTION:Come unwind and relax | Book Now\nThis restorative retreat for Moms will focus on tools and strategies for understanding and beating parental burnout\, improving self care\, and strengthening the nervous system. Create a personalized burnout prevention plan and connect with other moms. You will be treated to a healthy and nourishing lunch and have a couple hours access to the spa (cedar sauna and hot tub and cold plunge) and luxuriate with a scenic view of the lake. All moms will receive a journal and small gift. \nCost: $187.00 includes tuition\, 1 gourmet lunch & spa access\nStart time: 10:00 am | End time: 5:00 pm \nItinerary: \n10:00-12:00 am: Introduction and guided visualization. Information on understanding parental burnout\, signs\, symptoms\, and tools. Guided journalling to explore burnout factors and mapping out your resources. Fun small group activity to connect with other moms. Deep guided relaxation activity for restoration and calm. \n12:15-1:30: Nourishing and healthy lunch \n1:30-3:00: Strategies for connection\, communication and having more fun with your kids. Vagal toning exercises. Creating a personalized burnout prevention plan. Closing activity. \n3:00-5:00: Spa time. Enjoy the Cedar finished wood stove sauna\, copper cold plunge and hot tub overlooking Kootenay lake. Lounge in the main lodge\, sunroom or explore the beach below. This is your free time to read\, journal\, meditate or socialize. Bath tubs also available. Please bring your own towels and bathing suits. Option to stay overnight can be booked separately\, directly with the Sentinel. \n\nBOOK NOW\n\n  \nContact info: Ava Clark – 250 608 3195/ avaclark@gmail.com \n\n\nAbout the Leader\n\n\nAva Clark\nAva Clark is a registered clinical counsellor (through the BCACC) and life coach for moms.  With over 15 years of professional experience working in the mental health field\, she is now focusing on her passion for helping other moms to Beat Burnout and find balance. Ava has a private practice in Castlegar and also offers group coaching […] \nLearn more about Ava Clark
URL:https://sentinelbc.ca/event/mothers-self-care-retreat/
CATEGORIES:Wellness
ATTACH;FMTTYPE=image/png:https://sentinelbc.ca/wp-content/uploads/2024/01/04-27-2024-1080-x-1350-px.png
END:VEVENT
BEGIN:VEVENT
DTSTART;TZID=America/Vancouver:20240428T100000
DTEND;TZID=America/Vancouver:20240428T170000
DTSTAMP:20260425T045738
CREATED:20240220T200304Z
LAST-MODIFIED:20240417T195109Z
UID:10000019-1714298400-1714323600@sentinelbc.ca
SUMMARY:Relational Constellations | Ancestral Healing Day Event
DESCRIPTION:Join us for a full day workshop of Relational Constellations\nReciprocity: $188.00 – Reserve Your Spot Today – BOOK NOW\n\n\nFamily Constellations is a profound therapeutic approach that explores the hidden forces within families that shape our lives. Through a series of experiential exercises and guided processes\, participants gain insights into family dynamics\, ancestral patterns\, and unresolved issues that may be holding them back. \nIn this workshop\, you’ll have the opportunity to: \n\nUncover hidden family dynamics and their impact on your life\nGain clarity and resolution around challenging family relationships\nHeal intergenerational wounds and break free from unconscious patterns\nCultivate a deeper understanding of yourself and your family system\nGain insight into any health challenges you may be facing\nExperience profound shifts in your personal and professional life\n\nThis workshop will run from 10:00am-5:00pm \nDon’t miss this opportunity to embark on this journey of self discovery and healing. Reserve your spot now! \nTo add to your retreat experience\, consider booking room the night before the Workshop at The Sentinel here: https://sentinelbc.secure.retreat.guru/program/customized-retreat/ \nIf you have any additional questions please call our office at: 250-353-2246 \nTo learn more about Ginger’s work please visit her website here: \nhttps://awakeningthefield.ca/workshops\n\n\n\nAbout the Leader\n\n\nGinger Joy Rivest\nGinger is a trauma therapist\, counsellor\, and ceremonialist bringing over 15 years of experience in the professional healing arts to support community and individuals for the wellbeing of the collective. \nLearn more about Ginger Joy Rivest
URL:https://sentinelbc.ca/event/relational-constellations-ancestral-healing-day-event/
CATEGORIES:Wellness
ATTACH;FMTTYPE=image/jpeg:https://sentinelbc.ca/wp-content/uploads/2024/02/April-constellation-image.jpeg
END:VEVENT
END:VCALENDAR